BEGIN:VCALENDAR
VERSION:2.0
PRODID:-//eventon.com NONSGML v1.0//EN
CALSCALE:GREGORIAN
METHOD:PUBLISH
BEGIN:VEVENT
UID:69e728a4d4af9
DTSTAMP:20260421T073500Z
DTSTART:20260610T163000Z
DTEND:20260610T215900Z
LOCATION:Bodenseeforum Konstanz Reichenaustraße 21
SUMMARY:ZUKUNFT WÄRME
DESCRIPTION:gung in Konstanz verlässlich und klimafreundlich zu gestalten.
  Anfang 2024 wurde der strategische Rahmen dafür durch den Gemeinderat bes
 chlossen. Nun steht Schritt für Schritt die Umsetzung an\,  die zahlreiche
  Akteure einbindet. Damit EigentümerInnen ihre Handlungsoptionen samt För
 dermöglichkeiten kennen\,  informieren Verwaltung und Stadtwerke in einer 
 gemeinsamen Veranstaltung. Fragen\,  die im Lauf[..]\nhttps://www.bodenseef
 orum-konstanz.de/events/zukunft-waerme/
URL:https://www.bodenseeforum-konstanz.de/events/zukunft-waerme/
END:VEVENT
END:VCALENDAR